BEGIN:VCALENDAR
VERSION:2.0
PRODID:-//rssny.org//NONSGML kigkonsult.se iCalcreator 2.30.10//
CALSCALE:GREGORIAN
METHOD:PUBLISH
UID:db9f7eac-2be4-44f2-8451-3eff6fd47884
X-WR-CALDESC:
X-WR-RELCALID:4a5374ef73a6368032d519465e0ef4ce
X-WR-TIMEZONE:America/New_York
BEGIN:VTIMEZONE
TZID:America/New_York
BEGIN:STANDARD
TZNAME:EST
DTSTART:20231105T020000
TZOFFSETFROM:-0400
TZOFFSETTO:-0500
RDATE:20241103T020000
RDATE:20251102T020000
END:STANDARD
BEGIN:DAYLIGHT
TZNAME:EDT
DTSTART:20240310T020000
TZOFFSETFROM:-0500
TZOFFSETTO:-0400
RDATE:20250309T020000
END:DAYLIGHT
END:VTIMEZONE
BEGIN:VEVENT
UID:e684e9ed-f4cd-4971-b98a-7e2ebafc33e6
DTSTAMP:20260424T205323Z
DESCRIPTION:
DTSTART;TZID=America/New_York:20240725T110000
DTEND;TZID=America/New_York:20240725T120000
LOCATION:
SUMMARY:Folk Dancing - IN CENTER (Clone)
END:VEVENT
END:VCALENDAR
