BEGIN:VCALENDAR
VERSION:2.0
PRODID:-//rssny.org//NONSGML kigkonsult.se iCalcreator 2.30.10//
CALSCALE:GREGORIAN
METHOD:PUBLISH
UID:6eadb05c-6ec4-475d-88c3-f0ae35f99b53
X-WR-CALDESC:Have fun walking with Maritza. And\, do something positive for
  your help. Proven health outcomes from walking include:\n\n*  Decreased p
 ain\n*  Increased strength\n*  Increased balance\n\nCall the Center at 718
 .884.5900 for more information\n
X-WR-RELCALID:ad3a2ac041d2d5dd4247da7c02de73e7
X-WR-TIMEZONE:America/New_York
BEGIN:VTIMEZONE
TZID:America/New_York
BEGIN:STANDARD
TZNAME:EST
DTSTART:20231105T020000
TZOFFSETFROM:-0400
TZOFFSETTO:-0500
RDATE:20241103T020000
RDATE:20251102T020000
END:STANDARD
BEGIN:DAYLIGHT
TZNAME:EDT
DTSTART:20240310T020000
TZOFFSETFROM:-0500
TZOFFSETTO:-0400
RDATE:20250309T020000
END:DAYLIGHT
END:VTIMEZONE
BEGIN:VEVENT
UID:f4e7ccb9-fc5e-4f5c-b95d-755baef15998
DTSTAMP:20260424T205449Z
DESCRIPTION:Have fun walking with Maritza. And\, do something positive for 
 your help. Proven health outcomes from walking include:\n\n*  Decreased pa
 in\n*  Increased strength\n*  Increased balance\n\nCall the Center at 718.
 884.5900 for more information\n
DTSTART;TZID=America/New_York:20240725T100000
DTEND;TZID=America/New_York:20240725T110000
LOCATION:
SUMMARY:Walking Group with Maritza (In Person)
END:VEVENT
END:VCALENDAR
