BEGIN:VCALENDAR
VERSION:2.0
PRODID:-//rssny.org//NONSGML kigkonsult.se iCalcreator 2.30.10//
CALSCALE:GREGORIAN
METHOD:PUBLISH
UID:dc983c24-6921-48fe-932e-5d74fb6096cf
X-WR-CALDESC:Love knitting? Want to learn? Join the RSS knitting group. Reg
 istration not required.
X-WR-RELCALID:7004982e132ebce9bb4a667e43899ec7
X-WR-TIMEZONE:America/New_York
BEGIN:VTIMEZONE
TZID:America/New_York
BEGIN:STANDARD
TZNAME:EST
DTSTART:20231105T020000
TZOFFSETFROM:-0400
TZOFFSETTO:-0500
RDATE:20241103T020000
RDATE:20251102T020000
END:STANDARD
BEGIN:DAYLIGHT
TZNAME:EDT
DTSTART:20240310T020000
TZOFFSETFROM:-0500
TZOFFSETTO:-0400
RDATE:20250309T020000
END:DAYLIGHT
END:VTIMEZONE
BEGIN:VEVENT
UID:5a22fe43-b2d0-452a-acd0-8e4651fdd35a
DTSTAMP:20260424T205419Z
DESCRIPTION:Love knitting? Want to learn? Join the RSS knitting group. Regi
 stration not required.
DTSTART;TZID=America/New_York:20240725T100000
DTEND;TZID=America/New_York:20240725T113000
LOCATION:
SUMMARY:IN PERSON: Knitting Group
END:VEVENT
END:VCALENDAR
