BEGIN:VCALENDAR
VERSION:2.0
PRODID:-//rssny.org//NONSGML kigkonsult.se iCalcreator 2.30.10//
CALSCALE:GREGORIAN
METHOD:PUBLISH
UID:e7dbe614-73c4-4100-bca9-1e5e9fc6d240
X-WR-CALDESC:
X-WR-RELCALID:49e7990e59e650fe86a6f0e9c9460cc4
X-WR-TIMEZONE:America/New_York
BEGIN:VTIMEZONE
TZID:America/New_York
BEGIN:STANDARD
TZNAME:EST
DTSTART:20231105T020000
TZOFFSETFROM:-0400
TZOFFSETTO:-0500
RDATE:20241103T020000
RDATE:20251102T020000
END:STANDARD
BEGIN:DAYLIGHT
TZNAME:EDT
DTSTART:20240310T020000
TZOFFSETFROM:-0500
TZOFFSETTO:-0400
RDATE:20250309T020000
END:DAYLIGHT
END:VTIMEZONE
BEGIN:VEVENT
UID:2d22be67-cbb3-4442-880c-e813141b1de0
DTSTAMP:20260424T205449Z
DESCRIPTION:
DTSTART;TZID=America/New_York:20240724T130000
DTEND;TZID=America/New_York:20240724T150000
LOCATION:
SUMMARY:Acrylic Studio (In Person)
END:VEVENT
END:VCALENDAR
