BEGIN:VCALENDAR
VERSION:2.0
PRODID:-//rssny.org//NONSGML kigkonsult.se iCalcreator 2.30.10//
CALSCALE:GREGORIAN
METHOD:PUBLISH
UID:e8c0974a-1627-4a6e-a68c-75969c6070b1
X-WR-CALDESC:
X-WR-RELCALID:1ff39dd133c60a7364c1a831da941670
X-WR-TIMEZONE:America/New_York
BEGIN:VTIMEZONE
TZID:America/New_York
BEGIN:STANDARD
TZNAME:EST
DTSTART:20231105T020000
TZOFFSETFROM:-0400
TZOFFSETTO:-0500
RDATE:20241103T020000
RDATE:20251102T020000
END:STANDARD
BEGIN:DAYLIGHT
TZNAME:EDT
DTSTART:20240310T020000
TZOFFSETFROM:-0500
TZOFFSETTO:-0400
RDATE:20250309T020000
END:DAYLIGHT
END:VTIMEZONE
BEGIN:VEVENT
UID:082c1736-5514-4a1a-95ef-61d7721f4be7
DTSTAMP:20260424T205324Z
DESCRIPTION:
DTSTART;TZID=America/New_York:20240719T100000
DTEND;TZID=America/New_York:20240719T110000
LOCATION:
SUMMARY:Emergency Preparedness by Citizen Preparedness Corp
END:VEVENT
END:VCALENDAR
