BEGIN:VCALENDAR
VERSION:2.0
PRODID:-//rssny.org//NONSGML kigkonsult.se iCalcreator 2.30.10//
CALSCALE:GREGORIAN
METHOD:PUBLISH
UID:0200efac-850b-44b7-b8f0-985d8143308d
X-WR-CALDESC:
X-WR-RELCALID:9e4fd8655c9914392a9c097e09b93ce8
X-WR-TIMEZONE:America/New_York
BEGIN:VTIMEZONE
TZID:America/New_York
BEGIN:STANDARD
TZNAME:EST
DTSTART:20231105T020000
TZOFFSETFROM:-0400
TZOFFSETTO:-0500
RDATE:20241103T020000
RDATE:20251102T020000
END:STANDARD
BEGIN:DAYLIGHT
TZNAME:EDT
DTSTART:20240310T020000
TZOFFSETFROM:-0500
TZOFFSETTO:-0400
RDATE:20250309T020000
END:DAYLIGHT
END:VTIMEZONE
BEGIN:VEVENT
UID:0d23caf7-7cbb-4ffe-b12a-93f5027a2ef5
DTSTAMP:20260424T205323Z
DESCRIPTION:
DTSTART;TZID=America/New_York:20240718T110000
DTEND;TZID=America/New_York:20240718T120000
LOCATION:
SUMMARY:Folk Dancing - IN CENTER (Clone)
END:VEVENT
END:VCALENDAR
