BEGIN:VCALENDAR
VERSION:2.0
PRODID:-//rssny.org//NONSGML kigkonsult.se iCalcreator 2.30.10//
CALSCALE:GREGORIAN
METHOD:PUBLISH
UID:0af782cf-e901-46ea-aad9-f1a4212cab36
X-WR-CALDESC:Join us for breakfast at the Center!
X-WR-RELCALID:be9f0054c6368e79baf5674b1c1cdff3
X-WR-TIMEZONE:America/New_York
BEGIN:VTIMEZONE
TZID:America/New_York
BEGIN:STANDARD
TZNAME:EST
DTSTART:20231105T020000
TZOFFSETFROM:-0400
TZOFFSETTO:-0500
RDATE:20241103T020000
RDATE:20251102T020000
END:STANDARD
BEGIN:DAYLIGHT
TZNAME:EDT
DTSTART:20240310T020000
TZOFFSETFROM:-0500
TZOFFSETTO:-0400
RDATE:20250309T020000
END:DAYLIGHT
END:VTIMEZONE
BEGIN:VEVENT
UID:1a2c8a07-1444-4408-92b5-8baf35174884
DTSTAMP:20260424T205723Z
DESCRIPTION:Join us for breakfast at the Center!
DTSTART;TZID=America/New_York:20240717T090000
DTEND;TZID=America/New_York:20240717T100000
LOCATION:
SUMMARY:Breakfast Club (In Center)
END:VEVENT
END:VCALENDAR
