BEGIN:VCALENDAR
VERSION:2.0
PRODID:-//rssny.org//NONSGML kigkonsult.se iCalcreator 2.30.10//
CALSCALE:GREGORIAN
METHOD:PUBLISH
UID:d193b58e-befd-4939-88a3-e180524dbb85
X-WR-CALDESC:
X-WR-RELCALID:53d55e4be816fbc0fdd76a98786731ad
X-WR-TIMEZONE:America/New_York
BEGIN:VTIMEZONE
TZID:America/New_York
BEGIN:STANDARD
TZNAME:EST
DTSTART:20231105T020000
TZOFFSETFROM:-0400
TZOFFSETTO:-0500
RDATE:20241103T020000
RDATE:20251102T020000
END:STANDARD
BEGIN:DAYLIGHT
TZNAME:EDT
DTSTART:20240310T020000
TZOFFSETFROM:-0500
TZOFFSETTO:-0400
RDATE:20250309T020000
END:DAYLIGHT
END:VTIMEZONE
BEGIN:VEVENT
UID:5d4fccaf-8f95-4be7-a37b-89d37f1db9a8
DTSTAMP:20260424T210037Z
DESCRIPTION:
DTSTART;TZID=America/New_York:20240715T160000
DTEND;TZID=America/New_York:20240715T171500
LOCATION:Marble Hill Playground\, 127 Marble Hill Avenue\, Bronx\, NY 10463
  US
SUMMARY:Ballroom & Latin Dance Class for Adults 55+ Outdoors at the Marble 
 Hill Playground
END:VEVENT
END:VCALENDAR
