BEGIN:VCALENDAR
VERSION:2.0
PRODID:-//rssny.org//NONSGML kigkonsult.se iCalcreator 2.30.10//
CALSCALE:GREGORIAN
METHOD:PUBLISH
UID:cb433606-9d45-4c83-a6b9-3d28194dcfd4
X-WR-CALDESC:ACBL-accredited duplicate game (participants can earn Masterpo
 ints and the director (me) is ACBL-certified. Any level skill level is wel
 come.\n\nIf you are interested in joining send an email to info@rssny.org 
 or call 718.884.5900
X-WR-RELCALID:9e8ec62b84ba389e1035db66c470b8de
X-WR-TIMEZONE:America/New_York
BEGIN:VTIMEZONE
TZID:America/New_York
BEGIN:STANDARD
TZNAME:EST
DTSTART:20231105T020000
TZOFFSETFROM:-0400
TZOFFSETTO:-0500
RDATE:20241103T020000
RDATE:20251102T020000
END:STANDARD
BEGIN:DAYLIGHT
TZNAME:EDT
DTSTART:20240310T020000
TZOFFSETFROM:-0500
TZOFFSETTO:-0400
RDATE:20250309T020000
END:DAYLIGHT
END:VTIMEZONE
BEGIN:VEVENT
UID:4a4340d9-f920-4b38-b2b7-2346e12a23b2
DTSTAMP:20260424T205723Z
DESCRIPTION:ACBL-accredited duplicate game (participants can earn Masterpoi
 nts and the director (me) is ACBL-certified. Any level skill level is welc
 ome.\n\nIf you are interested in joining send an email to info@rssny.org o
 r call 718.884.5900
DTSTART;TZID=America/New_York:20240715T124500
DTEND;TZID=America/New_York:20240715T143000
LOCATION:
SUMMARY:On-Site: Duplicate Bridge with Rich (Invitation Only)
END:VEVENT
END:VCALENDAR
