BEGIN:VCALENDAR
VERSION:2.0
PRODID:-//rssny.org//NONSGML kigkonsult.se iCalcreator 2.30.10//
CALSCALE:GREGORIAN
METHOD:PUBLISH
UID:fd1c4887-63e6-40f9-947d-e50787e819ea
X-WR-CALDESC:Topics covered:\n- Why addressing hearing loss matters\n- Intr
 oduction to OTC Hearing Aids\n- Differences between OTC and prescription h
 earing aids\n- Candidacy for OTC hearing aids\n- Tips when considering OTC
  hearing aids\n- How CHC can help
X-WR-RELCALID:dacfadcb8db95c5db1d19b5cd2c2d951
X-WR-TIMEZONE:America/New_York
BEGIN:VTIMEZONE
TZID:America/New_York
BEGIN:STANDARD
TZNAME:EST
DTSTART:20231105T020000
TZOFFSETFROM:-0400
TZOFFSETTO:-0500
RDATE:20241103T020000
RDATE:20251102T020000
END:STANDARD
BEGIN:DAYLIGHT
TZNAME:EDT
DTSTART:20240310T020000
TZOFFSETFROM:-0500
TZOFFSETTO:-0400
RDATE:20250309T020000
END:DAYLIGHT
END:VTIMEZONE
BEGIN:VEVENT
UID:79d95a43-9906-4074-bd5e-aafc3b1dfe5c
DTSTAMP:20260424T205926Z
DESCRIPTION:Topics covered:\n- Why addressing hearing loss matters\n- Intro
 duction to OTC Hearing Aids\n- Differences between OTC and prescription he
 aring aids\n- Candidacy for OTC hearing aids\n- Tips when considering OTC 
 hearing aids\n- How CHC can help
DTSTART;TZID=America/New_York:20240710T150000
DTEND;TZID=America/New_York:20240710T160000
LOCATION:
SUMMARY:PLACEHOLDER:  Introduction to Over-the-Counter Hearing Aids - Cente
 r for Hearing & Communication (Hybrid)
END:VEVENT
END:VCALENDAR
