BEGIN:VCALENDAR
VERSION:2.0
PRODID:-//rssny.org//NONSGML kigkonsult.se iCalcreator 2.30.10//
CALSCALE:GREGORIAN
METHOD:PUBLISH
UID:5d43a98e-7fb9-4888-98df-4383327b4616
X-WR-CALDESC:Led by Center for Hearing & Communication. Learn about costs\,
  benefits\, challenges of Over-the-Counter hearing aids.\n\nTopics covered
 :\n- Why addressing hearing loss matters\n- Introduction to OTC Hearing Ai
 ds\n- Differences between OTC and prescription hearing aids\n- Candidacy f
 or OTC hearing aids\n- Tips when considering OTC hearing aids\n- How CHC c
 an help
X-WR-RELCALID:1c97f3fae4f9a9e3397f0c4252c8ffbf
X-WR-TIMEZONE:America/New_York
BEGIN:VTIMEZONE
TZID:America/New_York
BEGIN:STANDARD
TZNAME:EST
DTSTART:20231105T020000
TZOFFSETFROM:-0400
TZOFFSETTO:-0500
RDATE:20241103T020000
RDATE:20251102T020000
END:STANDARD
BEGIN:DAYLIGHT
TZNAME:EDT
DTSTART:20240310T020000
TZOFFSETFROM:-0500
TZOFFSETTO:-0400
RDATE:20250309T020000
END:DAYLIGHT
END:VTIMEZONE
BEGIN:VEVENT
UID:7792dcc8-6f1c-4cce-9044-4a3371123409
DTSTAMP:20260424T205319Z
DESCRIPTION:Led by Center for Hearing & Communication. Learn about costs\, 
 benefits\, challenges of Over-the-Counter hearing aids.\n\nTopics covered:
 \n- Why addressing hearing loss matters\n- Introduction to OTC Hearing Aid
 s\n- Differences between OTC and prescription hearing aids\n- Candidacy fo
 r OTC hearing aids\n- Tips when considering OTC hearing aids\n- How CHC ca
 n help
DTSTART;TZID=America/New_York:20240710T150000
DTEND;TZID=America/New_York:20240710T160000
LOCATION:
SUMMARY:Introduction to Over-the-Counter Hearing Aids
END:VEVENT
END:VCALENDAR
