BEGIN:VCALENDAR
VERSION:2.0
PRODID:-//rssny.org//NONSGML kigkonsult.se iCalcreator 2.30.10//
CALSCALE:GREGORIAN
METHOD:PUBLISH
UID:8c264eee-3c6c-4c1f-8a14-6686b8be914c
X-WR-CALDESC:
X-WR-RELCALID:3c03c2c59524444e3796ef4d484e5051
X-WR-TIMEZONE:America/New_York
BEGIN:VTIMEZONE
TZID:America/New_York
BEGIN:STANDARD
TZNAME:EST
DTSTART:20231105T020000
TZOFFSETFROM:-0400
TZOFFSETTO:-0500
RDATE:20241103T020000
RDATE:20251102T020000
END:STANDARD
BEGIN:DAYLIGHT
TZNAME:EDT
DTSTART:20240310T020000
TZOFFSETFROM:-0500
TZOFFSETTO:-0400
RDATE:20250309T020000
END:DAYLIGHT
END:VTIMEZONE
BEGIN:VEVENT
UID:8245748e-294d-4f66-86e1-8b772756c9ee
DTSTAMP:20260424T210038Z
DESCRIPTION:
DTSTART;TZID=America/New_York:20240708T160000
DTEND;TZID=America/New_York:20240708T171500
LOCATION:Marble Hill Playground\, 127 Marble Hill Avenue\, Bronx\, NY 10463
  US
SUMMARY:Ballroom & Latin Dance Class for Adults 55+ Outdoors at the Marble 
 Hill Playground
END:VEVENT
END:VCALENDAR
