BEGIN:VCALENDAR
VERSION:2.0
PRODID:-//rssny.org//NONSGML kigkonsult.se iCalcreator 2.30.10//
CALSCALE:GREGORIAN
METHOD:PUBLISH
UID:47ff6a44-2093-4338-8402-032760b9ef12
X-WR-CALDESC:
X-WR-RELCALID:58dff38f6dbc745faa61e70d7677cf02
X-WR-TIMEZONE:America/New_York
BEGIN:VTIMEZONE
TZID:America/New_York
BEGIN:STANDARD
TZNAME:EST
DTSTART:20231105T020000
TZOFFSETFROM:-0400
TZOFFSETTO:-0500
RDATE:20241103T020000
RDATE:20251102T020000
END:STANDARD
BEGIN:DAYLIGHT
TZNAME:EDT
DTSTART:20240310T020000
TZOFFSETFROM:-0500
TZOFFSETTO:-0400
RDATE:20250309T020000
END:DAYLIGHT
END:VTIMEZONE
BEGIN:VEVENT
UID:2b7fb74c-5c9d-4380-a0b0-f58eb050e5b0
DTSTAMP:20260424T205312Z
DESCRIPTION:
DTSTART;TZID=America/New_York:20240705T060000
DTEND;TZID=America/New_York:20240705T060001
LOCATION:
SUMMARY:CENTER CLOSED- Independence Day
END:VEVENT
END:VCALENDAR
