BEGIN:VCALENDAR
VERSION:2.0
PRODID:-//rssny.org//NONSGML kigkonsult.se iCalcreator 2.30.10//
CALSCALE:GREGORIAN
METHOD:PUBLISH
UID:af3fa47a-586d-4668-a0ff-dc38e68f1e25
X-WR-CALDESC:
X-WR-RELCALID:4b872663bc9312227b9d2eca18b845d9
X-WR-TIMEZONE:America/New_York
BEGIN:VTIMEZONE
TZID:America/New_York
BEGIN:STANDARD
TZNAME:EST
DTSTART:20231105T020000
TZOFFSETFROM:-0400
TZOFFSETTO:-0500
RDATE:20241103T020000
RDATE:20251102T020000
END:STANDARD
BEGIN:DAYLIGHT
TZNAME:EDT
DTSTART:20240310T020000
TZOFFSETFROM:-0500
TZOFFSETTO:-0400
RDATE:20250309T020000
END:DAYLIGHT
END:VTIMEZONE
BEGIN:VEVENT
UID:bb0a9afd-6a35-47c8-947b-d2ce6124fc72
DTSTAMP:20260424T205559Z
DESCRIPTION:
DTSTART;TZID=America/New_York:20240704T060000
DTEND;TZID=America/New_York:20240704T060001
LOCATION:
SUMMARY:CENTER CLOSED - 4th of July
END:VEVENT
END:VCALENDAR
