BEGIN:VCALENDAR
VERSION:2.0
PRODID:-//rssny.org//NONSGML kigkonsult.se iCalcreator 2.30.10//
CALSCALE:GREGORIAN
METHOD:PUBLISH
UID:9bee5b03-b50d-4836-95e2-eb89df196bb6
X-WR-CALDESC:This class is in the center.\nLevel: Beginner\n\n\nThe session
  is led by Tabitha Rosa\, the RSS Tech Specialist and Virtual Programs Coo
 rdinator.
X-WR-RELCALID:8060fdfd16547317d3d9a3842b2fc815
X-WR-TIMEZONE:America/New_York
BEGIN:VTIMEZONE
TZID:America/New_York
BEGIN:STANDARD
TZNAME:EST
DTSTART:20231105T020000
TZOFFSETFROM:-0400
TZOFFSETTO:-0500
RDATE:20241103T020000
RDATE:20251102T020000
END:STANDARD
BEGIN:DAYLIGHT
TZNAME:EDT
DTSTART:20240310T020000
TZOFFSETFROM:-0500
TZOFFSETTO:-0400
RDATE:20250309T020000
END:DAYLIGHT
END:VTIMEZONE
BEGIN:VEVENT
UID:8991275c-5fb8-4d33-9720-65cf5f33e2a0
DTSTAMP:20260424T205605Z
DESCRIPTION:This class is in the center.\nLevel: Beginner\n\n\nThe session 
 is led by Tabitha Rosa\, the RSS Tech Specialist and Virtual Programs Coor
 dinator.
DTSTART;TZID=America/New_York:20240702T110000
DTEND;TZID=America/New_York:20240702T120000
LOCATION:
SUMMARY:NO CLASS TODAY Tech How-To's: (IN CENTER)
END:VEVENT
END:VCALENDAR
