BEGIN:VCALENDAR
VERSION:2.0
PRODID:-//rssny.org//NONSGML kigkonsult.se iCalcreator 2.30.10//
CALSCALE:GREGORIAN
METHOD:PUBLISH
UID:ecda6fa2-69ef-4855-a580-fc5041043e30
X-WR-CALDESC:
X-WR-RELCALID:b9fb6a6d18cdeca002fa05fc1003345d
X-WR-TIMEZONE:America/New_York
BEGIN:VTIMEZONE
TZID:America/New_York
BEGIN:STANDARD
TZNAME:EST
DTSTART:20231105T020000
TZOFFSETFROM:-0400
TZOFFSETTO:-0500
RDATE:20241103T020000
RDATE:20251102T020000
END:STANDARD
BEGIN:DAYLIGHT
TZNAME:EDT
DTSTART:20240310T020000
TZOFFSETFROM:-0500
TZOFFSETTO:-0400
RDATE:20250309T020000
END:DAYLIGHT
END:VTIMEZONE
BEGIN:VEVENT
UID:19f427a8-78fe-47a8-a860-9d2e3542ecce
DTSTAMP:20260424T210037Z
DESCRIPTION:
DTSTART;TZID=America/New_York:20240701T160000
DTEND;TZID=America/New_York:20240701T171500
LOCATION:Marble Hill Playground\, 127 Marble Hill Avenue\, Bronx\, NY 10463
  US
SUMMARY:Ballroom & Latin Dance Class for Adults 55+ Outdoors at the Marble 
 Hill Playground
END:VEVENT
END:VCALENDAR
