BEGIN:VCALENDAR
VERSION:2.0
PRODID:-//rssny.org//NONSGML kigkonsult.se iCalcreator 2.30.10//
CALSCALE:GREGORIAN
METHOD:PUBLISH
UID:4eda608f-c2d5-43b9-a6be-5e76a6c2e816
X-WR-CALDESC:
X-WR-RELCALID:95f12d3fed19e8bf874d6ab79d75097e
X-WR-TIMEZONE:America/New_York
BEGIN:VTIMEZONE
TZID:America/New_York
BEGIN:STANDARD
TZNAME:EST
DTSTART:20231105T020000
TZOFFSETFROM:-0400
TZOFFSETTO:-0500
RDATE:20241103T020000
RDATE:20251102T020000
END:STANDARD
BEGIN:DAYLIGHT
TZNAME:EDT
DTSTART:20240310T020000
TZOFFSETFROM:-0500
TZOFFSETTO:-0400
RDATE:20250309T020000
END:DAYLIGHT
END:VTIMEZONE
BEGIN:VEVENT
UID:41e944b4-531d-4860-8320-90340cc735eb
DTSTAMP:20260424T223712Z
DESCRIPTION:
DTSTART;TZID=America/New_York:20240627T110000
DTEND;TZID=America/New_York:20240627T120000
LOCATION:
SUMMARY:Concert: Verdi's Requiem performed by Cheryl
END:VEVENT
END:VCALENDAR
