BEGIN:VCALENDAR
VERSION:2.0
PRODID:-//rssny.org//NONSGML kigkonsult.se iCalcreator 2.30.10//
CALSCALE:GREGORIAN
METHOD:PUBLISH
UID:ef3faf23-4a28-4f67-85d7-ad7d27ec764f
X-WR-CALDESC:Round 1 of competition at the RSS Center! We had a finalist la
 st year and are excited to be part of the competition of talent focused on
  older adults!\n\nCome and cheer on our contestants. Audience feedback is 
 an important component of the judging for this competition!
X-WR-RELCALID:628e3290d788bb44072565641ce93288
X-WR-TIMEZONE:America/New_York
BEGIN:VTIMEZONE
TZID:America/New_York
BEGIN:STANDARD
TZNAME:EST
DTSTART:20231105T020000
TZOFFSETFROM:-0400
TZOFFSETTO:-0500
RDATE:20241103T020000
RDATE:20251102T020000
END:STANDARD
BEGIN:DAYLIGHT
TZNAME:EDT
DTSTART:20240310T020000
TZOFFSETFROM:-0500
TZOFFSETTO:-0400
RDATE:20250309T020000
END:DAYLIGHT
END:VTIMEZONE
BEGIN:VEVENT
UID:e0ed6891-2929-451f-91f1-57b12d664c25
DTSTAMP:20260424T223601Z
DESCRIPTION:Round 1 of competition at the RSS Center! We had a finalist las
 t year and are excited to be part of the competition of talent focused on 
 older adults!\n\nCome and cheer on our contestants. Audience feedback is a
 n important component of the judging for this competition!
DTSTART;TZID=America/New_York:20240626T130000
DTEND;TZID=America/New_York:20240626T140000
LOCATION:2600 Netherland Avenue\, New York\, NY 10463 US
SUMMARY:Talent is Timeless Competition Round 1 (In Center)
END:VEVENT
END:VCALENDAR
