BEGIN:VCALENDAR
VERSION:2.0
PRODID:-//rssny.org//NONSGML kigkonsult.se iCalcreator 2.30.10//
CALSCALE:GREGORIAN
METHOD:PUBLISH
UID:d9d34c4f-c522-4fe5-a6f9-903bf08fc40b
X-WR-CALDESC:
X-WR-RELCALID:6c38c27aaa981ad17937342a1826ed9e
X-WR-TIMEZONE:America/New_York
BEGIN:VTIMEZONE
TZID:America/New_York
BEGIN:STANDARD
TZNAME:EST
DTSTART:20231105T020000
TZOFFSETFROM:-0400
TZOFFSETTO:-0500
RDATE:20241103T020000
RDATE:20251102T020000
END:STANDARD
BEGIN:DAYLIGHT
TZNAME:EDT
DTSTART:20240310T020000
TZOFFSETFROM:-0500
TZOFFSETTO:-0400
RDATE:20250309T020000
END:DAYLIGHT
END:VTIMEZONE
BEGIN:VEVENT
UID:7c50ca0a-3987-402a-9b16-09dcddf985ef
DTSTAMP:20260424T224415Z
DESCRIPTION:
DTSTART;TZID=America/New_York:20240626T130000
DTEND;TZID=America/New_York:20240626T150000
LOCATION:
SUMMARY:Leisure Games: Mah Jongg (In Center)
END:VEVENT
END:VCALENDAR
