BEGIN:VCALENDAR
VERSION:2.0
PRODID:-//rssny.org//NONSGML kigkonsult.se iCalcreator 2.30.10//
CALSCALE:GREGORIAN
METHOD:PUBLISH
UID:b3fe697b-2e4c-4d07-9a56-abeccbb220c8
X-WR-CALDESC:
X-WR-RELCALID:6a070a4dba12b4a5b6fd28d697f6e447
X-WR-TIMEZONE:America/New_York
BEGIN:VTIMEZONE
TZID:America/New_York
BEGIN:STANDARD
TZNAME:EST
DTSTART:20231105T020000
TZOFFSETFROM:-0400
TZOFFSETTO:-0500
RDATE:20241103T020000
RDATE:20251102T020000
END:STANDARD
BEGIN:DAYLIGHT
TZNAME:EDT
DTSTART:20240310T020000
TZOFFSETFROM:-0500
TZOFFSETTO:-0400
RDATE:20250309T020000
END:DAYLIGHT
END:VTIMEZONE
BEGIN:VEVENT
UID:5679a9f4-4812-4f65-9205-da00c88d57d7
DTSTAMP:20260424T223443Z
DESCRIPTION:
DTSTART;TZID=America/New_York:20240620T110000
DTEND;TZID=America/New_York:20240620T120000
LOCATION:
SUMMARY:Folk Dancing - IN CENTER (Clone)
END:VEVENT
END:VCALENDAR
