BEGIN:VCALENDAR
VERSION:2.0
PRODID:-//rssny.org//NONSGML kigkonsult.se iCalcreator 2.30.10//
CALSCALE:GREGORIAN
METHOD:PUBLISH
UID:f4b43b22-078e-436d-b773-df1a443c6e2d
X-WR-CALDESC:
X-WR-RELCALID:e5c68fab53801e72d0cc0bb11d8e8a98
X-WR-TIMEZONE:America/New_York
BEGIN:VTIMEZONE
TZID:America/New_York
BEGIN:STANDARD
TZNAME:EST
DTSTART:20231105T020000
TZOFFSETFROM:-0400
TZOFFSETTO:-0500
RDATE:20241103T020000
RDATE:20251102T020000
END:STANDARD
BEGIN:DAYLIGHT
TZNAME:EDT
DTSTART:20240310T020000
TZOFFSETFROM:-0500
TZOFFSETTO:-0400
RDATE:20250309T020000
END:DAYLIGHT
END:VTIMEZONE
BEGIN:VEVENT
UID:86ffe3a1-0bbe-481e-bd2f-92a63fab730b
DTSTAMP:20260424T222751Z
DESCRIPTION:
DTSTART;TZID=America/New_York:20240613T110000
DTEND;TZID=America/New_York:20240613T120000
LOCATION:
SUMMARY:Folk Dancing - IN CENTER (Clone)
END:VEVENT
END:VCALENDAR
