BEGIN:VCALENDAR
VERSION:2.0
PRODID:-//rssny.org//NONSGML kigkonsult.se iCalcreator 2.30.10//
CALSCALE:GREGORIAN
METHOD:PUBLISH
UID:9250e70f-97c1-4f1b-b9b9-fb640dd883f2
X-WR-CALDESC:Join us for breakfast at the Center!
X-WR-RELCALID:00198e5e5d91f9d3603cee3b6c6f7de6
X-WR-TIMEZONE:America/New_York
BEGIN:VTIMEZONE
TZID:America/New_York
BEGIN:STANDARD
TZNAME:EST
DTSTART:20231105T020000
TZOFFSETFROM:-0400
TZOFFSETTO:-0500
RDATE:20241103T020000
RDATE:20251102T020000
END:STANDARD
BEGIN:DAYLIGHT
TZNAME:EDT
DTSTART:20240310T020000
TZOFFSETFROM:-0500
TZOFFSETTO:-0400
RDATE:20250309T020000
END:DAYLIGHT
END:VTIMEZONE
BEGIN:VEVENT
UID:6c21e5b4-a68f-4501-8691-2d937b2a8855
DTSTAMP:20260424T223904Z
DESCRIPTION:Join us for breakfast at the Center!
DTSTART;TZID=America/New_York:20240612T090000
DTEND;TZID=America/New_York:20240612T100000
LOCATION:
SUMMARY:Breakfast Club (In Center)
END:VEVENT
END:VCALENDAR
