BEGIN:VCALENDAR
VERSION:2.0
PRODID:-//rssny.org//NONSGML kigkonsult.se iCalcreator 2.30.10//
CALSCALE:GREGORIAN
METHOD:PUBLISH
UID:f29316b5-8ea8-470f-8234-df3d01e6e7a4
X-WR-CALDESC:https://rssny.org/class-forms/derfner.html
X-WR-RELCALID:408fe9317a499bf63e39baa50dfc866e
X-WR-TIMEZONE:America/New_York
BEGIN:VTIMEZONE
TZID:America/New_York
BEGIN:STANDARD
TZNAME:EST
DTSTART:20231105T020000
TZOFFSETFROM:-0400
TZOFFSETTO:-0500
RDATE:20241103T020000
RDATE:20251102T020000
END:STANDARD
BEGIN:DAYLIGHT
TZNAME:EDT
DTSTART:20240310T020000
TZOFFSETFROM:-0500
TZOFFSETTO:-0400
RDATE:20250309T020000
END:DAYLIGHT
END:VTIMEZONE
BEGIN:VEVENT
UID:269fb89b-d5d0-453b-8270-e30f76937bec
DTSTAMP:20260424T224323Z
DESCRIPTION:https://rssny.org/class-forms/derfner.html
DTSTART;TZID=America/New_York:20240610T130000
DTEND;TZID=America/New_York:20240610T140000
LOCATION:https://rssny.org/class-forms/derfner.html
SUMMARY:DERFNER Museum: Aspects of Appearance (Hybrid)
END:VEVENT
END:VCALENDAR
