BEGIN:VCALENDAR
VERSION:2.0
PRODID:-//rssny.org//NONSGML kigkonsult.se iCalcreator 2.30.10//
CALSCALE:GREGORIAN
METHOD:PUBLISH
UID:2917dec0-8e24-444d-93e5-f25f885facaf
X-WR-CALDESC:This class is in the center.\nLevel: Beginner\n\nIn this class
  you will learn how to gain a clear and approachable grasp of what Artific
 ial intelligence is\, how it works\, and its significance in our modern wo
 rld. You will gain practical experience by interacting with AI-powered dev
 ices\, such as Chatgpt.\n\nThe session is led by Tabitha Rosa\, the RSS Te
 ch Specialist and Digital Engagement Coordinator .
X-WR-RELCALID:72e026d77ece15fcae21f12ec2a269ab
X-WR-TIMEZONE:America/New_York
BEGIN:VTIMEZONE
TZID:America/New_York
BEGIN:STANDARD
TZNAME:EST
DTSTART:20231105T020000
TZOFFSETFROM:-0400
TZOFFSETTO:-0500
RDATE:20241103T020000
RDATE:20251102T020000
END:STANDARD
BEGIN:DAYLIGHT
TZNAME:EDT
DTSTART:20240310T020000
TZOFFSETFROM:-0500
TZOFFSETTO:-0400
RDATE:20250309T020000
END:DAYLIGHT
END:VTIMEZONE
BEGIN:VEVENT
UID:383b0256-3a61-47c1-8914-7df3e9c98a21
DTSTAMP:20260424T224349Z
DESCRIPTION:This class is in the center.\nLevel: Beginner\n\nIn this class 
 you will learn how to gain a clear and approachable grasp of what Artifici
 al intelligence is\, how it works\, and its significance in our modern wor
 ld. You will gain practical experience by interacting with AI-powered devi
 ces\, such as Chatgpt.\n\nThe session is led by Tabitha Rosa\, the RSS Tec
 h Specialist and Digital Engagement Coordinator .
DTSTART;TZID=America/New_York:20240604T110000
DTEND;TZID=America/New_York:20240604T120000
LOCATION:
SUMMARY:Tech How-To's: Intro to AI (IN CENTER)
END:VEVENT
END:VCALENDAR
