BEGIN:VCALENDAR
VERSION:2.0
PRODID:-//rssny.org//NONSGML kigkonsult.se iCalcreator 2.30.10//
CALSCALE:GREGORIAN
METHOD:PUBLISH
UID:997ed6d5-4e49-45bc-a962-6eefac642b21
X-WR-CALDESC:Learn from Dr. Gleb Kartsev\, PT\, DPT\, CI\, CKTP\, STMT-C wi
 th Hudson Physical Therapy\, about common issues and exercises to maintain
  strength\, flexibility\, and pain-free movement in your feet and legs
X-WR-RELCALID:4a8c26d8c6f3e38dd9e3b020031e21f6
X-WR-TIMEZONE:America/New_York
BEGIN:VTIMEZONE
TZID:America/New_York
BEGIN:STANDARD
TZNAME:EST
DTSTART:20231105T020000
TZOFFSETFROM:-0400
TZOFFSETTO:-0500
RDATE:20241103T020000
RDATE:20251102T020000
END:STANDARD
BEGIN:DAYLIGHT
TZNAME:EDT
DTSTART:20240310T020000
TZOFFSETFROM:-0500
TZOFFSETTO:-0400
RDATE:20250309T020000
END:DAYLIGHT
END:VTIMEZONE
BEGIN:VEVENT
UID:44c7d5bc-18e4-4422-a4f8-3a75e4c633dc
DTSTAMP:20260425T001705Z
DESCRIPTION:Learn from Dr. Gleb Kartsev\, PT\, DPT\, CI\, CKTP\, STMT-C wit
 h Hudson Physical Therapy\, about common issues and exercises to maintain 
 strength\, flexibility\, and pain-free movement in your feet and legs
DTSTART;TZID=America/New_York:20240530T140000
DTEND;TZID=America/New_York:20240530T150000
LOCATION:
SUMMARY:Hudson Rehabilitation: Keep your Footing: Legs and Feet (Hybrid - c
 )
END:VEVENT
END:VCALENDAR
