BEGIN:VCALENDAR
VERSION:2.0
PRODID:-//rssny.org//NONSGML kigkonsult.se iCalcreator 2.30.10//
CALSCALE:GREGORIAN
METHOD:PUBLISH
UID:ac330639-1d23-42fb-b776-04d8843c4f96
X-WR-CALDESC:
X-WR-RELCALID:0cc8715a3bc3b2491fdfe6fc63dff217
X-WR-TIMEZONE:America/New_York
BEGIN:VTIMEZONE
TZID:America/New_York
BEGIN:STANDARD
TZNAME:EST
DTSTART:20231105T020000
TZOFFSETFROM:-0400
TZOFFSETTO:-0500
RDATE:20241103T020000
RDATE:20251102T020000
END:STANDARD
BEGIN:DAYLIGHT
TZNAME:EDT
DTSTART:20240310T020000
TZOFFSETFROM:-0500
TZOFFSETTO:-0400
RDATE:20250309T020000
END:DAYLIGHT
END:VTIMEZONE
BEGIN:VEVENT
UID:2b91537c-3808-44d7-bda2-7922e50d022e
DTSTAMP:20260424T235554Z
DESCRIPTION:
DTSTART;TZID=America/New_York:20240529T100000
DTEND;TZID=America/New_York:20240529T120000
LOCATION:
SUMMARY:Knitting Sale!
END:VEVENT
END:VCALENDAR
