BEGIN:VCALENDAR
VERSION:2.0
PRODID:-//rssny.org//NONSGML kigkonsult.se iCalcreator 2.30.10//
CALSCALE:GREGORIAN
METHOD:PUBLISH
UID:c73c2922-1ab7-46ef-881e-067fc42448cd
X-WR-CALDESC:
X-WR-RELCALID:41fb55ae2b2374995af345b740a747b5
X-WR-TIMEZONE:America/New_York
BEGIN:VTIMEZONE
TZID:America/New_York
BEGIN:STANDARD
TZNAME:EST
DTSTART:20231105T020000
TZOFFSETFROM:-0400
TZOFFSETTO:-0500
RDATE:20241103T020000
RDATE:20251102T020000
END:STANDARD
BEGIN:DAYLIGHT
TZNAME:EDT
DTSTART:20240310T020000
TZOFFSETFROM:-0500
TZOFFSETTO:-0400
RDATE:20250309T020000
END:DAYLIGHT
END:VTIMEZONE
BEGIN:VEVENT
UID:d4c8f400-db2e-4277-b266-72b3b8221359
DTSTAMP:20260425T000512Z
DESCRIPTION:
DTSTART;TZID=America/New_York:20240527T130000
DTEND;TZID=America/New_York:20240527T140000
LOCATION:
SUMMARY:Current Events with Tim (In Center)
END:VEVENT
END:VCALENDAR
