BEGIN:VCALENDAR
VERSION:2.0
PRODID:-//rssny.org//NONSGML kigkonsult.se iCalcreator 2.30.10//
CALSCALE:GREGORIAN
METHOD:PUBLISH
UID:eb968987-9663-44e4-9412-c209e81325a9
X-WR-CALDESC:
X-WR-RELCALID:bf6bbe74574e841671ec77e32be395de
X-WR-TIMEZONE:America/New_York
BEGIN:VTIMEZONE
TZID:America/New_York
BEGIN:STANDARD
TZNAME:EST
DTSTART:20231105T020000
TZOFFSETFROM:-0400
TZOFFSETTO:-0500
RDATE:20241103T020000
RDATE:20251102T020000
END:STANDARD
BEGIN:DAYLIGHT
TZNAME:EDT
DTSTART:20240310T020000
TZOFFSETFROM:-0500
TZOFFSETTO:-0400
RDATE:20250309T020000
END:DAYLIGHT
END:VTIMEZONE
BEGIN:VEVENT
UID:91afe3a0-64ea-4239-8d61-2a1e908745b6
DTSTAMP:20260425T001649Z
DESCRIPTION:
DTSTART;TZID=America/New_York:20240527T120000
DTEND;TZID=America/New_York:20240527T130000
LOCATION:
SUMMARY:Concerts in Motion: Meditative Mondays (This is not an RSS event)
END:VEVENT
END:VCALENDAR
