BEGIN:VCALENDAR
VERSION:2.0
PRODID:-//rssny.org//NONSGML kigkonsult.se iCalcreator 2.30.10//
CALSCALE:GREGORIAN
METHOD:PUBLISH
UID:03dc16ba-2d7d-4df7-a379-6c561211231c
X-WR-CALDESC:REGISTER HERE - https://rssny.org/class-forms/phoenix.html\n\n
 RSS is excited to announce a monthly series of art lectures from the Phoen
 ix Art Museum.\n\nLocated in the Central Corridor of a bustling\, desert m
 etropolis\, Phoenix Art Museum has opened doors to world-class exhibitions
 \, its comprehensive collections\, and meaningful moments of learning and 
 connection for 60 years.\n\nLearn more about the museum here - https://phx
 art.org/
X-WR-RELCALID:5c75b401df11a96196fd1d2e27b84230
X-WR-TIMEZONE:America/New_York
BEGIN:VTIMEZONE
TZID:America/New_York
BEGIN:STANDARD
TZNAME:EST
DTSTART:20231105T020000
TZOFFSETFROM:-0400
TZOFFSETTO:-0500
RDATE:20241103T020000
RDATE:20251102T020000
END:STANDARD
BEGIN:DAYLIGHT
TZNAME:EDT
DTSTART:20240310T020000
TZOFFSETFROM:-0500
TZOFFSETTO:-0400
RDATE:20250309T020000
END:DAYLIGHT
END:VTIMEZONE
BEGIN:VEVENT
UID:fb576e5d-cbab-422e-bd28-e36ad1642e7e
DTSTAMP:20260425T001704Z
DESCRIPTION:REGISTER HERE - https://rssny.org/class-forms/phoenix.html\n\nR
 SS is excited to announce a monthly series of art lectures from the Phoeni
 x Art Museum.\n\nLocated in the Central Corridor of a bustling\, desert me
 tropolis\, Phoenix Art Museum has opened doors to world-class exhibitions\
 , its comprehensive collections\, and meaningful moments of learning and c
 onnection for 60 years.\n\nLearn more about the museum here - https://phxa
 rt.org/
DTSTART;TZID=America/New_York:20240522T170000
DTEND;TZID=America/New_York:20240522T180000
LOCATION:https://rssny.org/class-forms/phoenix.html
SUMMARY:Historic Changes Bring Artist Revolutions  Art Lectures with the Ph
 oenix Art Museum (Online)
END:VEVENT
END:VCALENDAR
