BEGIN:VCALENDAR
VERSION:2.0
PRODID:-//rssny.org//NONSGML kigkonsult.se iCalcreator 2.30.10//
CALSCALE:GREGORIAN
METHOD:PUBLISH
UID:3bc177c7-561d-4ce9-811f-9336a5cf5299
X-WR-CALDESC:Open Mic\nThe members of the writing and poetry class share th
 eir writings.\nIf you are interested in presenting send an email to info@r
 ssny.org.\nAlways the last tuesday of the month.
X-WR-RELCALID:b9d4d20b25029c33d37c722c93ca1698
X-WR-TIMEZONE:America/New_York
BEGIN:VTIMEZONE
TZID:America/New_York
BEGIN:STANDARD
TZNAME:EST
DTSTART:20231105T020000
TZOFFSETFROM:-0400
TZOFFSETTO:-0500
RDATE:20241103T020000
RDATE:20251102T020000
END:STANDARD
BEGIN:DAYLIGHT
TZNAME:EDT
DTSTART:20240310T020000
TZOFFSETFROM:-0500
TZOFFSETTO:-0400
RDATE:20250309T020000
END:DAYLIGHT
END:VTIMEZONE
BEGIN:VEVENT
UID:59bf7548-1d07-4604-a218-929f39ef1f8d
DTSTAMP:20260425T001142Z
DESCRIPTION:Open Mic\nThe members of the writing and poetry class share the
 ir writings.\nIf you are interested in presenting send an email to info@rs
 sny.org.\nAlways the last tuesday of the month.
DTSTART;TZID=America/New_York:20240520T130000
DTEND;TZID=America/New_York:20240520T140000
LOCATION:
SUMMARY:Memoirs and Poetry Open Mic
END:VEVENT
END:VCALENDAR
