BEGIN:VCALENDAR
VERSION:2.0
PRODID:-//rssny.org//NONSGML kigkonsult.se iCalcreator 2.30.10//
CALSCALE:GREGORIAN
METHOD:PUBLISH
UID:2e2964fb-06f4-45bf-a4ed-a66032519084
X-WR-CALDESC:
X-WR-RELCALID:11801a9f88689f9f861d3fd4f19ed509
X-WR-TIMEZONE:America/New_York
BEGIN:VTIMEZONE
TZID:America/New_York
BEGIN:STANDARD
TZNAME:EST
DTSTART:20231105T020000
TZOFFSETFROM:-0400
TZOFFSETTO:-0500
RDATE:20241103T020000
RDATE:20251102T020000
END:STANDARD
BEGIN:DAYLIGHT
TZNAME:EDT
DTSTART:20240310T020000
TZOFFSETFROM:-0500
TZOFFSETTO:-0400
RDATE:20250309T020000
END:DAYLIGHT
END:VTIMEZONE
BEGIN:VEVENT
UID:de6587d4-9baa-4520-8d3c-aec2a08c5b84
DTSTAMP:20260424T235556Z
DESCRIPTION:
DTSTART;TZID=America/New_York:20240520T083000
DTEND;TZID=America/New_York:20240520T103000
LOCATION:
SUMMARY:Center Closed for Training
END:VEVENT
END:VCALENDAR
