BEGIN:VCALENDAR
VERSION:2.0
PRODID:-//rssny.org//NONSGML kigkonsult.se iCalcreator 2.30.10//
CALSCALE:GREGORIAN
METHOD:PUBLISH
UID:09974f75-2e44-4f7b-b225-cb4482a36b2f
X-WR-CALDESC:Join us for breakfast at the Center!
X-WR-RELCALID:372e8cea9eb86eb778f3ad08488ea891
X-WR-TIMEZONE:America/New_York
BEGIN:VTIMEZONE
TZID:America/New_York
BEGIN:STANDARD
TZNAME:EST
DTSTART:20231105T020000
TZOFFSETFROM:-0400
TZOFFSETTO:-0500
RDATE:20241103T020000
RDATE:20251102T020000
END:STANDARD
BEGIN:DAYLIGHT
TZNAME:EDT
DTSTART:20240310T020000
TZOFFSETFROM:-0500
TZOFFSETTO:-0400
RDATE:20250309T020000
END:DAYLIGHT
END:VTIMEZONE
BEGIN:VEVENT
UID:cdef326e-5e74-47b6-a6b6-db7acfbbeb15
DTSTAMP:20260425T001345Z
DESCRIPTION:Join us for breakfast at the Center!
DTSTART;TZID=America/New_York:20240508T090000
DTEND;TZID=America/New_York:20240508T100000
LOCATION:
SUMMARY:Breakfast Club (In Center)
END:VEVENT
END:VCALENDAR
