BEGIN:VCALENDAR
VERSION:2.0
PRODID:-//rssny.org//NONSGML kigkonsult.se iCalcreator 2.30.10//
CALSCALE:GREGORIAN
METHOD:PUBLISH
UID:b109a9e0-2caf-4b11-8c81-97186724a69a
X-WR-CALDESC:Welcome to the RSS Interactive Tech Expo! To get the full sche
 dule to go: https://rssny.org/classes/interactive-tech-expo.html
X-WR-RELCALID:74da34d0a79641893bf6021d8b11e320
X-WR-TIMEZONE:America/New_York
BEGIN:VTIMEZONE
TZID:America/New_York
BEGIN:STANDARD
TZNAME:EST
DTSTART:20231105T020000
TZOFFSETFROM:-0400
TZOFFSETTO:-0500
RDATE:20241103T020000
RDATE:20251102T020000
END:STANDARD
BEGIN:DAYLIGHT
TZNAME:EDT
DTSTART:20240310T020000
TZOFFSETFROM:-0500
TZOFFSETTO:-0400
RDATE:20250309T020000
END:DAYLIGHT
END:VTIMEZONE
BEGIN:VEVENT
UID:dbcb4d70-65ba-45cf-b814-a5bbd5f4615c
DTSTAMP:20260424T235553Z
DESCRIPTION:Welcome to the RSS Interactive Tech Expo! To get the full sched
 ule to go: https://rssny.org/classes/interactive-tech-expo.html
DTSTART;TZID=America/New_York:20240503T100000
DTEND;TZID=America/New_York:20240503T153000
LOCATION:
SUMMARY:Interactive Tech Expo In Center. Regular classes will be online onl
 y
END:VEVENT
END:VCALENDAR
