BEGIN:VCALENDAR
VERSION:2.0
PRODID:-//rssny.org//NONSGML kigkonsult.se iCalcreator 2.30.10//
CALSCALE:GREGORIAN
METHOD:PUBLISH
UID:b2a102d4-52e9-431d-9d30-ea9e89cdcfa5
X-WR-CALDESC:
X-WR-RELCALID:044ad0fe9f864b97fc2f1c94571bb708
X-WR-TIMEZONE:America/New_York
BEGIN:VTIMEZONE
TZID:America/New_York
BEGIN:STANDARD
TZNAME:EST
DTSTART:20231105T020000
TZOFFSETFROM:-0400
TZOFFSETTO:-0500
RDATE:20241103T020000
RDATE:20251102T020000
END:STANDARD
BEGIN:DAYLIGHT
TZNAME:EDT
DTSTART:20240310T020000
TZOFFSETFROM:-0500
TZOFFSETTO:-0400
RDATE:20250309T020000
END:DAYLIGHT
END:VTIMEZONE
BEGIN:VEVENT
UID:b08fe0ac-0136-4d04-8cda-9731d751adad
DTSTAMP:20260425T001136Z
DESCRIPTION:
DTSTART;TZID=America/New_York:20240503T150000
DTEND;TZID=America/New_York:20240503T160000
LOCATION:
SUMMARY:CANCELED: RSS Garden
END:VEVENT
END:VCALENDAR
