BEGIN:VCALENDAR
VERSION:2.0
PRODID:-//rssny.org//NONSGML kigkonsult.se iCalcreator 2.30.10//
CALSCALE:GREGORIAN
METHOD:PUBLISH
UID:60c9cc77-a3e3-46af-bfb0-16ae7bef5ded
X-WR-CALDESC:REGISTER HERE - https://rssny.org/class-forms/get-fit-with-stu
 art.html\n\nGet tone and fit with Stuart\, our exercise expert. Good for y
 ou whatever your level of fitness. A general fitness class that can be don
 e seated or standing. Try out this new class at RSS.
X-WR-RELCALID:5ea873b2a8db27775ba34c393b74c831
X-WR-TIMEZONE:America/New_York
BEGIN:VTIMEZONE
TZID:America/New_York
BEGIN:STANDARD
TZNAME:EST
DTSTART:20231105T020000
TZOFFSETFROM:-0400
TZOFFSETTO:-0500
RDATE:20241103T020000
RDATE:20251102T020000
END:STANDARD
BEGIN:DAYLIGHT
TZNAME:EDT
DTSTART:20240310T020000
TZOFFSETFROM:-0500
TZOFFSETTO:-0400
RDATE:20250309T020000
END:DAYLIGHT
END:VTIMEZONE
BEGIN:VEVENT
UID:3587227e-86ee-4824-864e-24d37e4af774
DTSTAMP:20260425T000512Z
DESCRIPTION:REGISTER HERE - https://rssny.org/class-forms/get-fit-with-stua
 rt.html\n\nGet tone and fit with Stuart\, our exercise expert. Good for yo
 u whatever your level of fitness. A general fitness class that can be done
  seated or standing. Try out this new class at RSS.
DTSTART;TZID=America/New_York:20240503T100000
DTEND;TZID=America/New_York:20240503T110000
LOCATION:https://rssny.org/class-forms/get-fit-with-stuart.html
SUMMARY:Get Fit with Stuart (ONLINE)
END:VEVENT
END:VCALENDAR
