BEGIN:VCALENDAR
VERSION:2.0
PRODID:-//rssny.org//NONSGML kigkonsult.se iCalcreator 2.30.10//
CALSCALE:GREGORIAN
METHOD:PUBLISH
UID:720482f8-0fc6-4b9b-a367-64ab776578cc
X-WR-CALDESC:
X-WR-RELCALID:1e00c9988629bff3ad560ab714b4fb4a
X-WR-TIMEZONE:America/New_York
BEGIN:VTIMEZONE
TZID:America/New_York
BEGIN:STANDARD
TZNAME:EST
DTSTART:20231105T020000
TZOFFSETFROM:-0400
TZOFFSETTO:-0500
RDATE:20241103T020000
END:STANDARD
BEGIN:DAYLIGHT
TZNAME:EDT
DTSTART:20240310T020000
TZOFFSETFROM:-0500
TZOFFSETTO:-0400
RDATE:20250309T020000
END:DAYLIGHT
END:VTIMEZONE
BEGIN:VEVENT
UID:ec1d11dd-3ecb-4e4a-a0ad-6cf4320bc16c
DTSTAMP:20260424T235553Z
DESCRIPTION:
DTSTART;TZID=America/New_York:20240502T100000
DTEND;TZID=America/New_York:20240502T140000
LOCATION:
SUMMARY:Horace Mann 12th Gr.: Discussion: What RSS members did after high s
 chool (In Person) (Copy)
END:VEVENT
END:VCALENDAR
