BEGIN:VCALENDAR
VERSION:2.0
PRODID:-//rssny.org//NONSGML kigkonsult.se iCalcreator 2.30.10//
CALSCALE:GREGORIAN
METHOD:PUBLISH
UID:b962a35b-ae5a-4bf1-b335-ba5ea5cfcd2f
X-WR-CALDESC:
X-WR-RELCALID:edd1b3b7660b744105dd6b95dbeb3b3c
X-WR-TIMEZONE:America/New_York
BEGIN:VTIMEZONE
TZID:America/New_York
BEGIN:STANDARD
TZNAME:EST
DTSTART:20231105T020000
TZOFFSETFROM:-0400
TZOFFSETTO:-0500
RDATE:20241103T020000
END:STANDARD
BEGIN:DAYLIGHT
TZNAME:EDT
DTSTART:20240310T020000
TZOFFSETFROM:-0500
TZOFFSETTO:-0400
RDATE:20250309T020000
END:DAYLIGHT
END:VTIMEZONE
BEGIN:VEVENT
UID:f994a0c3-6c81-4bec-afee-99d8cf2c18ef
DTSTAMP:20260425T002507Z
DESCRIPTION:
DTSTART;TZID=America/New_York:20240501T130000
DTEND;TZID=America/New_York:20240501T150000
LOCATION:
SUMMARY:Movies In Center - NO MOVIE TODAY
END:VEVENT
END:VCALENDAR
