BEGIN:VCALENDAR
VERSION:2.0
PRODID:-//rssny.org//NONSGML kigkonsult.se iCalcreator 2.30.10//
CALSCALE:GREGORIAN
METHOD:PUBLISH
UID:e4298cf5-a45e-4dcf-8744-b7f46da06909
X-WR-CALDESC:Join us for breakfast at the Center!
X-WR-RELCALID:082fd4f3c2478ffc1268693cd331ae62
X-WR-TIMEZONE:America/New_York
BEGIN:VTIMEZONE
TZID:America/New_York
BEGIN:STANDARD
TZNAME:EST
DTSTART:20231105T020000
TZOFFSETFROM:-0400
TZOFFSETTO:-0500
RDATE:20241103T020000
END:STANDARD
BEGIN:DAYLIGHT
TZNAME:EDT
DTSTART:20240310T020000
TZOFFSETFROM:-0500
TZOFFSETTO:-0400
RDATE:20250309T020000
END:DAYLIGHT
END:VTIMEZONE
BEGIN:VEVENT
UID:6dfe7c68-ba16-4cb4-a93a-35061fcbc4c5
DTSTAMP:20260425T000812Z
DESCRIPTION:Join us for breakfast at the Center!
DTSTART;TZID=America/New_York:20240501T090000
DTEND;TZID=America/New_York:20240501T100000
LOCATION:
SUMMARY:Breakfast Club (In Center)
END:VEVENT
END:VCALENDAR
