BEGIN:VCALENDAR
VERSION:2.0
PRODID:-//rssny.org//NONSGML kigkonsult.se iCalcreator 2.30.10//
CALSCALE:GREGORIAN
METHOD:PUBLISH
UID:20e91eef-0152-4789-b343-517b2ecdc72d
X-WR-CALDESC:Open Mic\nThe members of the writing and poetry class share th
 eir writings.\nIf you are interested in presenting send an email to info@r
 ssny.org.\nAlways the last tuesday of the month.
X-WR-RELCALID:756b7d2355a86b7306b9b21fb0b54710
X-WR-TIMEZONE:America/New_York
BEGIN:VTIMEZONE
TZID:America/New_York
BEGIN:STANDARD
TZNAME:EST
DTSTART:20231105T020000
TZOFFSETFROM:-0400
TZOFFSETTO:-0500
RDATE:20241103T020000
END:STANDARD
BEGIN:DAYLIGHT
TZNAME:EDT
DTSTART:20240310T020000
TZOFFSETFROM:-0500
TZOFFSETTO:-0400
RDATE:20250309T020000
END:DAYLIGHT
END:VTIMEZONE
BEGIN:VEVENT
UID:7a77d3cc-6308-419e-90eb-3cc2dddd21b3
DTSTAMP:20260425T013436Z
DESCRIPTION:Open Mic\nThe members of the writing and poetry class share the
 ir writings.\nIf you are interested in presenting send an email to info@rs
 sny.org.\nAlways the last tuesday of the month.
DTSTART;TZID=America/New_York:20240430T130000
DTEND;TZID=America/New_York:20240430T140000
LOCATION:
SUMMARY:Memoirs and Poetry Open Mic
END:VEVENT
END:VCALENDAR
