BEGIN:VCALENDAR
VERSION:2.0
PRODID:-//rssny.org//NONSGML kigkonsult.se iCalcreator 2.30.10//
CALSCALE:GREGORIAN
METHOD:PUBLISH
UID:413cc0ba-b45e-4c25-a3c8-31d8e6233130
X-WR-CALDESC:We do mixed media collages with a weekly theme.  All supplies 
 are provided.  We welcome any level of experience. Come create wonderful a
 rt pieces with us!
X-WR-RELCALID:06703b30fe8b9a24696199118badbe45
X-WR-TIMEZONE:America/New_York
BEGIN:VTIMEZONE
TZID:America/New_York
BEGIN:STANDARD
TZNAME:EST
DTSTART:20231105T020000
TZOFFSETFROM:-0400
TZOFFSETTO:-0500
RDATE:20241103T020000
END:STANDARD
BEGIN:DAYLIGHT
TZNAME:EDT
DTSTART:20240310T020000
TZOFFSETFROM:-0500
TZOFFSETTO:-0400
RDATE:20250309T020000
END:DAYLIGHT
END:VTIMEZONE
BEGIN:VEVENT
UID:ad4fd0e0-4dd3-49f6-a2b3-e7a5dccfab10
DTSTAMP:20260425T014042Z
DESCRIPTION:We do mixed media collages with a weekly theme.  All supplies a
 re provided.  We welcome any level of experience. Come create wonderful ar
 t pieces with us!
DTSTART;TZID=America/New_York:20240430T130000
DTEND;TZID=America/New_York:20240430T150000
LOCATION:
SUMMARY:Collage with Annelen (In-Person)
END:VEVENT
END:VCALENDAR
