BEGIN:VCALENDAR
VERSION:2.0
PRODID:-//rssny.org//NONSGML kigkonsult.se iCalcreator 2.30.10//
CALSCALE:GREGORIAN
METHOD:PUBLISH
UID:753a104a-8f19-4e91-97d8-7f1f66e062b1
X-WR-CALDESC:This class is in the center.\nLevel: Beginner\n\n\nThe session
  is led by Tabitha Rosa\, the RSS Tech Specialist and Virtual Programs Coo
 rdinator.
X-WR-RELCALID:1447ea753ecbe165833bb5e70b8acd6c
X-WR-TIMEZONE:America/New_York
BEGIN:VTIMEZONE
TZID:America/New_York
BEGIN:STANDARD
TZNAME:EST
DTSTART:20231105T020000
TZOFFSETFROM:-0400
TZOFFSETTO:-0500
RDATE:20241103T020000
END:STANDARD
BEGIN:DAYLIGHT
TZNAME:EDT
DTSTART:20240310T020000
TZOFFSETFROM:-0500
TZOFFSETTO:-0400
RDATE:20250309T020000
END:DAYLIGHT
END:VTIMEZONE
BEGIN:VEVENT
UID:103727ad-5ff3-46d8-9056-c82311a1bf29
DTSTAMP:20260425T013558Z
DESCRIPTION:This class is in the center.\nLevel: Beginner\n\n\nThe session 
 is led by Tabitha Rosa\, the RSS Tech Specialist and Virtual Programs Coor
 dinator.
DTSTART;TZID=America/New_York:20240430T110000
DTEND;TZID=America/New_York:20240430T120000
LOCATION:
SUMMARY:Cancelled Tech How-To's: (IN CENTER)
END:VEVENT
END:VCALENDAR
