BEGIN:VCALENDAR
VERSION:2.0
PRODID:-//rssny.org//NONSGML kigkonsult.se iCalcreator 2.30.10//
CALSCALE:GREGORIAN
METHOD:PUBLISH
UID:b4447c45-c046-4dc2-9cf2-8c89c40fd3d8
X-WR-CALDESC:Come and share your stories and poems with your friends at RSS
 .  Writing gives people\, especially older adults\, a new perspective on t
 heir life – Reading your writing to others can give them a new perspective
  on their lives. \n\n  “This is what I went through\, this is who I am.  M
 aybe you can have the same experiences\, and can learn something from our 
 sharing them.”\n\nCome and Join Our Open Mic!!\n\n
X-WR-RELCALID:4c9f51f56db7a1337a2ffc8efc6ccff3
X-WR-TIMEZONE:America/New_York
BEGIN:VTIMEZONE
TZID:America/New_York
BEGIN:STANDARD
TZNAME:EST
DTSTART:20231105T020000
TZOFFSETFROM:-0400
TZOFFSETTO:-0500
RDATE:20241103T020000
END:STANDARD
BEGIN:DAYLIGHT
TZNAME:EDT
DTSTART:20240310T020000
TZOFFSETFROM:-0500
TZOFFSETTO:-0400
RDATE:20250309T020000
END:DAYLIGHT
END:VTIMEZONE
BEGIN:VEVENT
UID:13b05efc-d286-4fb9-9d99-540f45c65f14
DTSTAMP:20260425T013619Z
DESCRIPTION:Come and share your stories and poems with your friends at RSS.
   Writing gives people\, especially older adults\, a new perspective on th
 eir life – Reading your writing to others can give them a new perspective 
 on their lives. \n\n  “This is what I went through\, this is who I am.  Ma
 ybe you can have the same experiences\, and can learn something from our s
 haring them.”\n\nCome and Join Our Open Mic!!\n\n
DTSTART;TZID=America/New_York:20240430T100000
DTEND;TZID=America/New_York:20240430T110000
LOCATION:
SUMMARY:Memoir Writing with Donald (Open Mic)
END:VEVENT
END:VCALENDAR
