BEGIN:VCALENDAR
VERSION:2.0
PRODID:-//rssny.org//NONSGML kigkonsult.se iCalcreator 2.30.10//
CALSCALE:GREGORIAN
METHOD:PUBLISH
UID:971defb9-504e-462f-bd26-2a1a2a944b2b
X-WR-CALDESC:
X-WR-RELCALID:01e329cde7c21d216df129b6ea780d76
X-WR-TIMEZONE:America/New_York
BEGIN:VTIMEZONE
TZID:America/New_York
BEGIN:STANDARD
TZNAME:EST
DTSTART:20231105T020000
TZOFFSETFROM:-0400
TZOFFSETTO:-0500
RDATE:20241103T020000
END:STANDARD
BEGIN:DAYLIGHT
TZNAME:EDT
DTSTART:20240310T020000
TZOFFSETFROM:-0500
TZOFFSETTO:-0400
RDATE:20250309T020000
END:DAYLIGHT
END:VTIMEZONE
BEGIN:VEVENT
UID:5478865d-ed5a-4dcd-a5d0-1ee2e27c5e0b
DTSTAMP:20260425T014215Z
DESCRIPTION:
DTSTART;TZID=America/New_York:20240425T130000
DTEND;TZID=America/New_York:20240425T140000
LOCATION:
SUMMARY:IN PERSON: Crafting with Recyclables with Susan Guzman
END:VEVENT
END:VCALENDAR
