BEGIN:VCALENDAR
VERSION:2.0
PRODID:-//rssny.org//NONSGML kigkonsult.se iCalcreator 2.30.10//
CALSCALE:GREGORIAN
METHOD:PUBLISH
UID:63d69706-58bc-4f05-86de-bbc92344e36f
X-WR-CALDESC:
X-WR-RELCALID:95c8f315e95d7dd3b062d8cefe36edc5
X-WR-TIMEZONE:America/New_York
BEGIN:VTIMEZONE
TZID:America/New_York
BEGIN:STANDARD
TZNAME:EST
DTSTART:20231105T020000
TZOFFSETFROM:-0400
TZOFFSETTO:-0500
RDATE:20241103T020000
END:STANDARD
BEGIN:DAYLIGHT
TZNAME:EDT
DTSTART:20240310T020000
TZOFFSETFROM:-0500
TZOFFSETTO:-0400
RDATE:20250309T020000
END:DAYLIGHT
END:VTIMEZONE
BEGIN:VEVENT
UID:6bae48f8-5e30-4b19-94db-cd0b29d21911
DTSTAMP:20260425T014209Z
DESCRIPTION:
DTSTART;TZID=America/New_York:20240424T130000
DTEND;TZID=America/New_York:20240424T140000
LOCATION:
SUMMARY:Concerts in Motion: Chinese (This is not an RSS event)
END:VEVENT
END:VCALENDAR
