BEGIN:VCALENDAR
VERSION:2.0
PRODID:-//rssny.org//NONSGML kigkonsult.se iCalcreator 2.30.10//
CALSCALE:GREGORIAN
METHOD:PUBLISH
UID:43d39b45-2691-4c7e-bf4c-2b7c23d4469a
X-WR-CALDESC:
X-WR-RELCALID:e995182e26a6499a3224bf2d915a0a3c
X-WR-TIMEZONE:America/New_York
BEGIN:VTIMEZONE
TZID:America/New_York
BEGIN:STANDARD
TZNAME:EST
DTSTART:20231105T020000
TZOFFSETFROM:-0400
TZOFFSETTO:-0500
RDATE:20241103T020000
END:STANDARD
BEGIN:DAYLIGHT
TZNAME:EDT
DTSTART:20240310T020000
TZOFFSETFROM:-0500
TZOFFSETTO:-0400
RDATE:20250309T020000
END:DAYLIGHT
END:VTIMEZONE
BEGIN:VEVENT
UID:8223849a-2b2a-40ed-9be9-be6a33d35e4f
DTSTAMP:20260425T014042Z
DESCRIPTION:
DTSTART;TZID=America/New_York:20240424T120000
DTEND;TZID=America/New_York:20240424T130000
LOCATION:
SUMMARY:Birthday Lunch (In Center)
END:VEVENT
END:VCALENDAR
