BEGIN:VCALENDAR
VERSION:2.0
PRODID:-//rssny.org//NONSGML kigkonsult.se iCalcreator 2.30.10//
CALSCALE:GREGORIAN
METHOD:PUBLISH
UID:efc1ce6f-5947-475c-a216-2ad78b592e4a
X-WR-CALDESC:Join us for breakfast at the Center!
X-WR-RELCALID:8d49be15b021dcae7841c840f1b5df0d
X-WR-TIMEZONE:America/New_York
BEGIN:VTIMEZONE
TZID:America/New_York
BEGIN:STANDARD
TZNAME:EST
DTSTART:20231105T020000
TZOFFSETFROM:-0400
TZOFFSETTO:-0500
RDATE:20241103T020000
END:STANDARD
BEGIN:DAYLIGHT
TZNAME:EDT
DTSTART:20240310T020000
TZOFFSETFROM:-0500
TZOFFSETTO:-0400
RDATE:20250309T020000
END:DAYLIGHT
END:VTIMEZONE
BEGIN:VEVENT
UID:057a9dbe-7d1b-486c-88db-3df24d384a27
DTSTAMP:20260425T013738Z
DESCRIPTION:Join us for breakfast at the Center!
DTSTART;TZID=America/New_York:20240424T090000
DTEND;TZID=America/New_York:20240424T100000
LOCATION:
SUMMARY:Breakfast Club (In Center)
END:VEVENT
END:VCALENDAR
