BEGIN:VCALENDAR
VERSION:2.0
PRODID:-//rssny.org//NONSGML kigkonsult.se iCalcreator 2.30.10//
CALSCALE:GREGORIAN
METHOD:PUBLISH
UID:8a941d28-ec8b-4db3-9d45-3fd1caed1fc0
X-WR-CALDESC:
X-WR-RELCALID:d6c5b0651db95739b4d83f6a2e12e471
X-WR-TIMEZONE:America/New_York
BEGIN:VTIMEZONE
TZID:America/New_York
BEGIN:STANDARD
TZNAME:EST
DTSTART:20231105T020000
TZOFFSETFROM:-0400
TZOFFSETTO:-0500
RDATE:20241103T020000
END:STANDARD
BEGIN:DAYLIGHT
TZNAME:EDT
DTSTART:20240310T020000
TZOFFSETFROM:-0500
TZOFFSETTO:-0400
RDATE:20250309T020000
END:DAYLIGHT
END:VTIMEZONE
BEGIN:VEVENT
UID:d720ba88-5022-4e6e-91d2-6e712ad09b41
DTSTAMP:20260425T013411Z
DESCRIPTION:
DTSTART;TZID=America/New_York:20240419T120000
DTEND;TZID=America/New_York:20240419T130000
LOCATION:
SUMMARY:Lunch (In Center)
END:VEVENT
END:VCALENDAR
