BEGIN:VCALENDAR
VERSION:2.0
PRODID:-//rssny.org//NONSGML kigkonsult.se iCalcreator 2.30.10//
CALSCALE:GREGORIAN
METHOD:PUBLISH
UID:891ce86a-6f15-4216-9a08-2e19a625c9b5
X-WR-CALDESC:
X-WR-RELCALID:21f6331f1bdbafd7f8bbc96091e77f83
X-WR-TIMEZONE:America/New_York
BEGIN:VTIMEZONE
TZID:America/New_York
BEGIN:STANDARD
TZNAME:EST
DTSTART:20231105T020000
TZOFFSETFROM:-0400
TZOFFSETTO:-0500
RDATE:20241103T020000
END:STANDARD
BEGIN:DAYLIGHT
TZNAME:EDT
DTSTART:20240310T020000
TZOFFSETFROM:-0500
TZOFFSETTO:-0400
RDATE:20250309T020000
END:DAYLIGHT
END:VTIMEZONE
BEGIN:VEVENT
UID:3919043b-5be2-4d1b-a489-b6cb0f716173
DTSTAMP:20260425T014221Z
DESCRIPTION:
DTSTART;TZID=America/New_York:20240418T130000
DTEND;TZID=America/New_York:20240418T140000
LOCATION:
SUMMARY:IN PERSON: Crafting with Recyclables with Susan Guzman
END:VEVENT
END:VCALENDAR
