BEGIN:VCALENDAR
VERSION:2.0
PRODID:-//rssny.org//NONSGML kigkonsult.se iCalcreator 2.30.10//
CALSCALE:GREGORIAN
METHOD:PUBLISH
UID:1b1c5d0f-5b37-4030-bd5a-454200de998d
X-WR-CALDESC:Join us for breakfast at the Center!
X-WR-RELCALID:6faa29240b02f1d3420579990356e7f3
X-WR-TIMEZONE:America/New_York
BEGIN:VTIMEZONE
TZID:America/New_York
BEGIN:STANDARD
TZNAME:EST
DTSTART:20231105T020000
TZOFFSETFROM:-0400
TZOFFSETTO:-0500
RDATE:20241103T020000
END:STANDARD
BEGIN:DAYLIGHT
TZNAME:EDT
DTSTART:20240310T020000
TZOFFSETFROM:-0500
TZOFFSETTO:-0400
RDATE:20250309T020000
END:DAYLIGHT
END:VTIMEZONE
BEGIN:VEVENT
UID:b2587f8a-e8c8-4d1e-9af1-9a69ed2a4a3c
DTSTAMP:20260425T014011Z
DESCRIPTION:Join us for breakfast at the Center!
DTSTART;TZID=America/New_York:20240417T090000
DTEND;TZID=America/New_York:20240417T100000
LOCATION:
SUMMARY:Breakfast Club (In Center)
END:VEVENT
END:VCALENDAR
