BEGIN:VCALENDAR
VERSION:2.0
PRODID:-//rssny.org//NONSGML kigkonsult.se iCalcreator 2.30.10//
CALSCALE:GREGORIAN
METHOD:PUBLISH
UID:fe7634d4-728f-47f6-8990-48489466dee4
X-WR-CALDESC:Join ADSNY on Wednesday\, April 17th\, from 10:30 AM – 12:00 P
 M (EST)\, via zoom for an exciting virtual “visit” to Manhattan with Archi
 tectural Historian Anthony W. Robins.\n\nRegister Here -https://rssny.org/
 class-forms/art-deco.html
X-WR-RELCALID:6249c9b9dfbfc074048396d989da1a35
X-WR-TIMEZONE:America/New_York
BEGIN:VTIMEZONE
TZID:America/New_York
BEGIN:STANDARD
TZNAME:EST
DTSTART:20231105T020000
TZOFFSETFROM:-0400
TZOFFSETTO:-0500
RDATE:20241103T020000
END:STANDARD
BEGIN:DAYLIGHT
TZNAME:EDT
DTSTART:20240310T020000
TZOFFSETFROM:-0500
TZOFFSETTO:-0400
RDATE:20250309T020000
END:DAYLIGHT
END:VTIMEZONE
BEGIN:VEVENT
UID:bb38539f-6c43-4b80-81bf-43ec34c16f94
DTSTAMP:20260425T014343Z
DESCRIPTION:Join ADSNY on Wednesday\, April 17th\, from 10:30 AM – 12:00 PM
  (EST)\, via zoom for an exciting virtual “visit” to Manhattan with Archit
 ectural Historian Anthony W. Robins.\n\nRegister Here -https://rssny.org/c
 lass-forms/art-deco.html
DTSTART;TZID=America/New_York:20240417T103000
DTEND;TZID=America/New_York:20240417T113000
LOCATION:https://rssny.org/class-forms/art-deco.html
SUMMARY:Telling the Art Deco Story Manhattan: The Icons (Hybrid- presenter 
 is on Zoom)
END:VEVENT
END:VCALENDAR
